Package: STATegRa Version: 1.28.0 Command: C:\cygwin\bin\curl.exe -O http://155.52.207.165/BBS/3.13/bioc/src/contrib/STATegRa_1.28.0.tar.gz && rm -rf STATegRa.buildbin-libdir && mkdir STATegRa.buildbin-libdir && C:\Users\biocbuild\bbs-3.13-bioc\R\bin\R.exe CMD INSTALL --merge-multiarch --build --library=STATegRa.buildbin-libdir STATegRa_1.28.0.tar.gz && C:\Users\biocbuild\bbs-3.13-bioc\R\bin\R.exe CMD INSTALL STATegRa_1.28.0.zip && rm STATegRa_1.28.0.tar.gz STATegRa_1.28.0.zip StartedAt: 2021-10-14 08:24:01 -0400 (Thu, 14 Oct 2021) EndedAt: 2021-10-14 08:25:12 -0400 (Thu, 14 Oct 2021) EllapsedTime: 70.5 seconds RetCode: 0 Status: OK