Package: STROMA4 Version: 1.16.0 Command: C:\Users\biocbuild\bbs-3.13-bioc\R\bin\R.exe CMD check --force-multiarch --install=check:STROMA4.install-out.txt --library=C:\Users\biocbuild\bbs-3.13-bioc\R\library --no-vignettes --timings STROMA4_1.16.0.tar.gz StartedAt: 2021-10-15 06:16:49 -0400 (Fri, 15 Oct 2021) EndedAt: 2021-10-15 06:19:37 -0400 (Fri, 15 Oct 2021) EllapsedTime: 167.8 seconds RetCode: 0 Status: OK CheckDir: STROMA4.Rcheck Warnings: 0