Package: Scale4C Version: 1.14.0 Command: /home/biocbuild/bbs-3.13-bioc/R/bin/R CMD check --install=check:Scale4C.install-out.txt --library=/home/biocbuild/bbs-3.13-bioc/R/library --no-vignettes --timings Scale4C_1.14.0.tar.gz StartedAt: 2021-10-14 11:28:32 -0400 (Thu, 14 Oct 2021) EndedAt: 2021-10-14 11:31:22 -0400 (Thu, 14 Oct 2021) EllapsedTime: 170.1 seconds RetCode: 0 Status: OK CheckDir: Scale4C.Rcheck Warnings: 0