Package: SeqArray Version: 1.32.0 Command: chmod a+r SeqArray -R && C:\Users\biocbuild\bbs-3.13-bioc\R\bin\R.exe CMD build --keep-empty-dirs --no-resave-data SeqArray StartedAt: 2021-10-14 18:09:40 -0400 (Thu, 14 Oct 2021) EndedAt: 2021-10-14 18:16:34 -0400 (Thu, 14 Oct 2021) EllapsedTime: 414.6 seconds RetCode: 0 Status: OK PackageFile: SeqArray_1.32.0.tar.gz PackageFileSize: 2.942 MiB