Package: SeqArray Version: 1.32.0 Command: C:\cygwin\bin\curl.exe -O http://155.52.207.165/BBS/3.13/bioc/src/contrib/SeqArray_1.32.0.tar.gz && rm -rf SeqArray.buildbin-libdir && mkdir SeqArray.buildbin-libdir && C:\Users\biocbuild\bbs-3.13-bioc\R\bin\R.exe CMD INSTALL --merge-multiarch --build --library=SeqArray.buildbin-libdir SeqArray_1.32.0.tar.gz && C:\Users\biocbuild\bbs-3.13-bioc\R\bin\R.exe CMD INSTALL SeqArray_1.32.0.zip && rm SeqArray_1.32.0.tar.gz SeqArray_1.32.0.zip StartedAt: 2021-10-14 07:44:31 -0400 (Thu, 14 Oct 2021) EndedAt: 2021-10-14 07:49:02 -0400 (Thu, 14 Oct 2021) EllapsedTime: 271.5 seconds RetCode: 0 Status: OK