git_url: https://git.bioconductor.org/packages/SeqGSEA git_branch: RELEASE_3_13 git_last_commit: 2ecabac git_last_commit_date: 2021-05-19 11:58:27 -0400 (Wed, 19 May 2021) Package: SeqGSEA Version: 1.32.0 Maintainer: Xi Wang MaintainerEmail: Xi.Wang at dkfz.de