Package: SeqGate Version: 1.2.0 Command: rm -rf SeqGate.buildbin-libdir && mkdir SeqGate.buildbin-libdir && /Users/biocbuild/BBS/utils/build-universal.sh SeqGate_1.2.0.tar.gz /Library/Frameworks/R.framework/Versions/Current/Resources/bin/R SeqGate.buildbin-libdir StartedAt: 2021-10-15 03:57:55 -0400 (Fri, 15 Oct 2021) EndedAt: 2021-10-15 03:59:05 -0400 (Fri, 15 Oct 2021) EllapsedTime: 69.6 seconds RetCode: 0 Status: OK PackageFile: SeqGate_1.2.0.tgz PackageFileSize: 264.2 KiB