Package: SeqGate Version: 1.2.0 Command: /Library/Frameworks/R.framework/Versions/Current/Resources/bin/R CMD build --keep-empty-dirs --no-resave-data SeqGate StartedAt: 2021-10-14 14:51:59 -0400 (Thu, 14 Oct 2021) EndedAt: 2021-10-14 14:53:16 -0400 (Thu, 14 Oct 2021) EllapsedTime: 76.4 seconds RetCode: 0 Status: OK PackageFile: SeqGate_1.2.0.tar.gz PackageFileSize: 247.6 KiB