Package: SeqGate Version: 1.2.0 Command: /Library/Frameworks/R.framework/Versions/Current/Resources/bin/R CMD INSTALL SeqGate StartedAt: 2021-10-14 09:06:16 -0400 (Thu, 14 Oct 2021) EndedAt: 2021-10-14 09:06:55 -0400 (Thu, 14 Oct 2021) EllapsedTime: 38.8 seconds RetCode: 0 Status: OK