Package: SeqGate Version: 1.2.0 Command: rm -rf SeqGate.buildbin-libdir && mkdir SeqGate.buildbin-libdir && C:\Users\biocbuild\bbs-3.13-bioc\R\bin\R.exe CMD INSTALL --merge-multiarch --build --library=SeqGate.buildbin-libdir SeqGate_1.2.0.tar.gz StartedAt: 2021-10-15 11:45:01 -0400 (Fri, 15 Oct 2021) EndedAt: 2021-10-15 11:46:26 -0400 (Fri, 15 Oct 2021) EllapsedTime: 84.6 seconds RetCode: 0 Status: OK PackageFile: SeqGate_1.2.0.zip PackageFileSize: 274.7 KiB