Package: SigCheck Version: 2.24.0 Command: rm -rf SigCheck.buildbin-libdir && mkdir SigCheck.buildbin-libdir && C:\Users\biocbuild\bbs-3.13-bioc\R\bin\R.exe CMD INSTALL --merge-multiarch --build --library=SigCheck.buildbin-libdir SigCheck_2.24.0.tar.gz StartedAt: 2021-10-15 11:47:41 -0400 (Fri, 15 Oct 2021) EndedAt: 2021-10-15 11:49:00 -0400 (Fri, 15 Oct 2021) EllapsedTime: 79.6 seconds RetCode: 0 Status: OK PackageFile: SigCheck_2.24.0.zip PackageFileSize: 736.3 KiB