Package: SigCheck Version: 2.24.0 Command: chmod a+r SigCheck -R && C:\Users\biocbuild\bbs-3.13-bioc\R\bin\R.exe CMD build --keep-empty-dirs --no-resave-data SigCheck StartedAt: 2021-10-14 18:17:34 -0400 (Thu, 14 Oct 2021) EndedAt: 2021-10-14 18:18:57 -0400 (Thu, 14 Oct 2021) EllapsedTime: 82.2 seconds RetCode: 0 Status: OK PackageFile: SigCheck_2.24.0.tar.gz PackageFileSize: 362.7 KiB