git_url: https://git.bioconductor.org/packages/SigsPack git_branch: RELEASE_3_13 git_last_commit: 1f4a968 git_last_commit_date: 2021-05-19 12:45:30 -0400 (Wed, 19 May 2021) Package: SigsPack Version: 1.6.0 Maintainer: Franziska Schumann MaintainerEmail: franziska.schumann at student.hpi.de