Package: SigsPack Version: 1.6.0 Command: /home/biocbuild/bbs-3.13-bioc/R/bin/R CMD build --keep-empty-dirs --no-resave-data SigsPack StartedAt: 2021-10-14 08:26:08 -0400 (Thu, 14 Oct 2021) EndedAt: 2021-10-14 08:27:44 -0400 (Thu, 14 Oct 2021) EllapsedTime: 96.0 seconds RetCode: 0 Status: OK PackageFile: SigsPack_1.6.0.tar.gz PackageFileSize: 497.6 KiB