Package: SigsPack Version: 1.6.0 Command: /home/biocbuild/bbs-3.13-bioc/R/bin/R CMD check --install=check:SigsPack.install-out.txt --library=/home/biocbuild/bbs-3.13-bioc/R/library --no-vignettes --timings SigsPack_1.6.0.tar.gz StartedAt: 2021-10-14 11:37:48 -0400 (Thu, 14 Oct 2021) EndedAt: 2021-10-14 11:39:55 -0400 (Thu, 14 Oct 2021) EllapsedTime: 126.3 seconds RetCode: 0 Status: OK CheckDir: SigsPack.Rcheck Warnings: 0