Package: SigsPack Version: 1.6.0 Command: /home/biocbuild/bbs-3.13-bioc/R/bin/R CMD INSTALL SigsPack StartedAt: 2021-10-14 06:25:23 -0400 (Thu, 14 Oct 2021) EndedAt: 2021-10-14 06:25:24 -0400 (Thu, 14 Oct 2021) EllapsedTime: 1.7 seconds RetCode: 0 Status: OK