Package: SigsPack Version: 1.6.0 Command: rm -rf SigsPack.buildbin-libdir && mkdir SigsPack.buildbin-libdir && C:\Users\biocbuild\bbs-3.13-bioc\R\bin\R.exe CMD INSTALL --merge-multiarch --build --library=SigsPack.buildbin-libdir SigsPack_1.6.0.tar.gz StartedAt: 2021-10-15 11:48:51 -0400 (Fri, 15 Oct 2021) EndedAt: 2021-10-15 11:50:06 -0400 (Fri, 15 Oct 2021) EllapsedTime: 75.5 seconds RetCode: 0 Status: OK PackageFile: SigsPack_1.6.0.zip PackageFileSize: 497 KiB