git_url: https://git.bioconductor.org/packages/SimBindProfiles git_branch: RELEASE_3_13 git_last_commit: be78d26 git_last_commit_date: 2021-05-19 12:00:51 -0400 (Wed, 19 May 2021) Package: SimBindProfiles Version: 1.30.0 Maintainer: Bettina Fischer MaintainerEmail: bef22 at cam.ac.uk