Package: SimBindProfiles Version: 1.30.0 Command: /home/biocbuild/bbs-3.13-bioc/R/bin/R CMD INSTALL SimBindProfiles StartedAt: 2021-10-14 06:17:32 -0400 (Thu, 14 Oct 2021) EndedAt: 2021-10-14 06:17:52 -0400 (Thu, 14 Oct 2021) EllapsedTime: 20.2 seconds RetCode: 0 Status: OK