Package: SimFFPE Version: 1.4.0 Command: rm -rf SimFFPE.buildbin-libdir && mkdir SimFFPE.buildbin-libdir && /Users/biocbuild/BBS/utils/build-universal.sh SimFFPE_1.4.0.tar.gz /Library/Frameworks/R.framework/Versions/Current/Resources/bin/R SimFFPE.buildbin-libdir StartedAt: 2021-10-15 04:00:58 -0400 (Fri, 15 Oct 2021) EndedAt: 2021-10-15 04:01:56 -0400 (Fri, 15 Oct 2021) EllapsedTime: 57.6 seconds RetCode: 0 Status: OK PackageFile: SimFFPE_1.4.0.tgz PackageFileSize: 802.5 KiB