Package: SimFFPE Version: 1.4.0 Command: /Library/Frameworks/R.framework/Versions/Current/Resources/bin/R CMD INSTALL SimFFPE StartedAt: 2021-10-14 08:44:33 -0400 (Thu, 14 Oct 2021) EndedAt: 2021-10-14 08:45:20 -0400 (Thu, 14 Oct 2021) EllapsedTime: 46.9 seconds RetCode: 0 Status: OK