Package: SimFFPE Version: 1.4.0 Command: /home/biocbuild/bbs-3.13-bioc/R/bin/R CMD build --keep-empty-dirs --no-resave-data SimFFPE StartedAt: 2021-10-14 08:26:18 -0400 (Thu, 14 Oct 2021) EndedAt: 2021-10-14 08:27:59 -0400 (Thu, 14 Oct 2021) EllapsedTime: 100.1 seconds RetCode: 0 Status: OK PackageFile: SimFFPE_1.4.0.tar.gz PackageFileSize: 741.5 KiB