Package: SimFFPE Version: 1.4.0 Command: /home/biocbuild/bbs-3.13-bioc/R/bin/R CMD check --install=check:SimFFPE.install-out.txt --library=/home/biocbuild/bbs-3.13-bioc/R/library --no-vignettes --timings SimFFPE_1.4.0.tar.gz StartedAt: 2021-10-14 11:38:32 -0400 (Thu, 14 Oct 2021) EndedAt: 2021-10-14 11:42:29 -0400 (Thu, 14 Oct 2021) EllapsedTime: 237.4 seconds RetCode: 0 Status: OK CheckDir: SimFFPE.Rcheck Warnings: 0