Package: SimFFPE Version: 1.4.0 Command: C:\cygwin\bin\curl.exe -O http://155.52.207.165/BBS/3.13/bioc/src/contrib/SimFFPE_1.4.0.tar.gz && rm -rf SimFFPE.buildbin-libdir && mkdir SimFFPE.buildbin-libdir && C:\Users\biocbuild\bbs-3.13-bioc\R\bin\R.exe CMD INSTALL --merge-multiarch --build --library=SimFFPE.buildbin-libdir SimFFPE_1.4.0.tar.gz && C:\Users\biocbuild\bbs-3.13-bioc\R\bin\R.exe CMD INSTALL SimFFPE_1.4.0.zip && rm SimFFPE_1.4.0.tar.gz SimFFPE_1.4.0.zip StartedAt: 2021-10-14 08:05:32 -0400 (Thu, 14 Oct 2021) EndedAt: 2021-10-14 08:06:34 -0400 (Thu, 14 Oct 2021) EllapsedTime: 62.3 seconds RetCode: 0 Status: OK