Package: SingleCellSignalR Version: 1.4.0 Command: /Library/Frameworks/R.framework/Versions/Current/Resources/bin/R CMD check --install=check:SingleCellSignalR.install-out.txt --library=/Library/Frameworks/R.framework/Versions/Current/Resources/library --no-vignettes --timings SingleCellSignalR_1.4.0.tar.gz StartedAt: 2021-10-15 00:04:44 -0400 (Fri, 15 Oct 2021) EndedAt: 2021-10-15 00:09:30 -0400 (Fri, 15 Oct 2021) EllapsedTime: 285.9 seconds RetCode: 0 Status: WARNINGS CheckDir: SingleCellSignalR.Rcheck Warnings: 1