Package: SingleCellSignalR Version: 1.4.0 Command: chmod a+r SingleCellSignalR -R && C:\Users\biocbuild\bbs-3.13-bioc\R\bin\R.exe CMD build --keep-empty-dirs --no-resave-data SingleCellSignalR StartedAt: 2021-10-14 18:20:57 -0400 (Thu, 14 Oct 2021) EndedAt: 2021-10-14 18:22:57 -0400 (Thu, 14 Oct 2021) EllapsedTime: 120.0 seconds RetCode: 0 Status: OK PackageFile: SingleCellSignalR_1.4.0.tar.gz PackageFileSize: 4.012 MiB