git_url: https://git.bioconductor.org/packages/SingleMoleculeFootprinting git_branch: RELEASE_3_13 git_last_commit: 398e2fb git_last_commit_date: 2021-05-19 13:04:02 -0400 (Wed, 19 May 2021) Package: SingleMoleculeFootprinting Version: 1.0.0 Maintainer: Guido Barzaghi MaintainerEmail: guido.barzaghi at embl.de