Package: SingleMoleculeFootprinting Version: 1.0.0 Command: /Library/Frameworks/R.framework/Versions/Current/Resources/bin/R CMD check --install=check:SingleMoleculeFootprinting.install-out.txt --library=/Library/Frameworks/R.framework/Versions/Current/Resources/library --no-vignettes --timings SingleMoleculeFootprinting_1.0.0.tar.gz StartedAt: 2021-10-15 00:05:28 -0400 (Fri, 15 Oct 2021) EndedAt: 2021-10-15 00:12:01 -0400 (Fri, 15 Oct 2021) EllapsedTime: 392.8 seconds RetCode: 0 Status: OK CheckDir: SingleMoleculeFootprinting.Rcheck Warnings: 0