Package: SingleMoleculeFootprinting Version: 1.0.0 Command: /home/biocbuild/bbs-3.13-bioc/R/bin/R CMD build --keep-empty-dirs --no-resave-data SingleMoleculeFootprinting StartedAt: 2021-10-14 08:26:40 -0400 (Thu, 14 Oct 2021) EndedAt: 2021-10-14 08:29:41 -0400 (Thu, 14 Oct 2021) EllapsedTime: 181.0 seconds RetCode: 0 Status: OK PackageFile: SingleMoleculeFootprinting_1.0.0.tar.gz PackageFileSize: 547.7 KiB