Package: Spaniel Version: 1.6.0 Command: /Library/Frameworks/R.framework/Versions/Current/Resources/bin/R CMD check --install=check:Spaniel.install-out.txt --library=/Library/Frameworks/R.framework/Versions/Current/Resources/library --no-vignettes --timings Spaniel_1.6.0.tar.gz StartedAt: 2021-10-15 00:14:50 -0400 (Fri, 15 Oct 2021) EndedAt: 2021-10-15 00:19:40 -0400 (Fri, 15 Oct 2021) EllapsedTime: 290.8 seconds RetCode: 0 Status: OK CheckDir: Spaniel.Rcheck Warnings: 0