Package: Spaniel Version: 1.6.0 Command: /Library/Frameworks/R.framework/Versions/Current/Resources/bin/R CMD INSTALL Spaniel StartedAt: 2021-10-14 09:44:39 -0400 (Thu, 14 Oct 2021) EndedAt: 2021-10-14 09:45:34 -0400 (Thu, 14 Oct 2021) EllapsedTime: 54.8 seconds RetCode: 0 Status: OK