Package: Spaniel Version: 1.6.0 Command: chmod a+r Spaniel -R && C:\Users\biocbuild\bbs-3.13-bioc\R\bin\R.exe CMD build --keep-empty-dirs --no-resave-data Spaniel StartedAt: 2021-10-14 18:28:00 -0400 (Thu, 14 Oct 2021) EndedAt: 2021-10-14 18:30:27 -0400 (Thu, 14 Oct 2021) EllapsedTime: 146.7 seconds RetCode: 0 Status: OK PackageFile: Spaniel_1.6.0.tar.gz PackageFileSize: 3.729 MiB