Package: SparseSignatures Version: 2.2.0 Command: /home/biocbuild/bbs-3.13-bioc/R/bin/R CMD INSTALL SparseSignatures StartedAt: 2021-10-14 06:23:40 -0400 (Thu, 14 Oct 2021) EndedAt: 2021-10-14 06:24:14 -0400 (Thu, 14 Oct 2021) EllapsedTime: 33.1 seconds RetCode: 0 Status: OK