Package: SpatialCPie Version: 1.8.0 Command: /Library/Frameworks/R.framework/Versions/Current/Resources/bin/R CMD check --install=check:SpatialCPie.install-out.txt --library=/Library/Frameworks/R.framework/Versions/Current/Resources/library --no-vignettes --timings SpatialCPie_1.8.0.tar.gz StartedAt: 2021-10-15 00:16:42 -0400 (Fri, 15 Oct 2021) EndedAt: 2021-10-15 00:20:04 -0400 (Fri, 15 Oct 2021) EllapsedTime: 201.8 seconds RetCode: 0 Status: OK CheckDir: SpatialCPie.Rcheck Warnings: 0