Package: SpatialExperiment Version: 1.2.1 Command: C:\cygwin\bin\curl.exe -O http://155.52.207.165/BBS/3.13/bioc/src/contrib/SpatialExperiment_1.2.1.tar.gz && rm -rf SpatialExperiment.buildbin-libdir && mkdir SpatialExperiment.buildbin-libdir && C:\Users\biocbuild\bbs-3.13-bioc\R\bin\R.exe CMD INSTALL --merge-multiarch --build --library=SpatialExperiment.buildbin-libdir SpatialExperiment_1.2.1.tar.gz && C:\Users\biocbuild\bbs-3.13-bioc\R\bin\R.exe CMD INSTALL SpatialExperiment_1.2.1.zip && rm SpatialExperiment_1.2.1.tar.gz SpatialExperiment_1.2.1.zip StartedAt: 2021-10-14 09:03:40 -0400 (Thu, 14 Oct 2021) EndedAt: 2021-10-14 09:04:54 -0400 (Thu, 14 Oct 2021) EllapsedTime: 73.8 seconds RetCode: 0 Status: OK