Package: SpeCond Version: 1.46.0 Command: /Library/Frameworks/R.framework/Versions/Current/Resources/bin/R CMD check --install=check:SpeCond.install-out.txt --library=/Library/Frameworks/R.framework/Versions/Current/Resources/library --no-vignettes --timings SpeCond_1.46.0.tar.gz StartedAt: 2021-10-15 00:17:59 -0400 (Fri, 15 Oct 2021) EndedAt: 2021-10-15 00:20:15 -0400 (Fri, 15 Oct 2021) EllapsedTime: 135.5 seconds RetCode: 0 Status: OK CheckDir: SpeCond.Rcheck Warnings: 0