Package: SpectralTAD Version: 1.8.0 Command: /Library/Frameworks/R.framework/Versions/Current/Resources/bin/R CMD check --install=check:SpectralTAD.install-out.txt --library=/Library/Frameworks/R.framework/Versions/Current/Resources/library --no-vignettes --timings SpectralTAD_1.8.0.tar.gz StartedAt: 2021-10-15 00:18:16 -0400 (Fri, 15 Oct 2021) EndedAt: 2021-10-15 00:20:57 -0400 (Fri, 15 Oct 2021) EllapsedTime: 160.7 seconds RetCode: 0 Status: OK CheckDir: SpectralTAD.Rcheck Warnings: 0