Package: SpectralTAD Version: 1.8.0 Command: rm -rf SpectralTAD.buildbin-libdir && mkdir SpectralTAD.buildbin-libdir && C:\Users\biocbuild\bbs-3.13-bioc\R\bin\R.exe CMD INSTALL --merge-multiarch --build --library=SpectralTAD.buildbin-libdir SpectralTAD_1.8.0.tar.gz StartedAt: 2021-10-15 11:56:56 -0400 (Fri, 15 Oct 2021) EndedAt: 2021-10-15 11:58:28 -0400 (Fri, 15 Oct 2021) EllapsedTime: 91.5 seconds RetCode: 0 Status: OK PackageFile: SpectralTAD_1.8.0.zip PackageFileSize: 1.485 MiB