Package: SpectralTAD Version: 1.8.0 Command: chmod a+r SpectralTAD -R && C:\Users\biocbuild\bbs-3.13-bioc\R\bin\R.exe CMD build --keep-empty-dirs --no-resave-data SpectralTAD StartedAt: 2021-10-14 18:30:01 -0400 (Thu, 14 Oct 2021) EndedAt: 2021-10-14 18:32:35 -0400 (Thu, 14 Oct 2021) EllapsedTime: 153.3 seconds RetCode: 0 Status: OK PackageFile: SpectralTAD_1.8.0.tar.gz PackageFileSize: 1.489 MiB