Package: SpectralTAD Version: 1.8.0 Command: C:\cygwin\bin\curl.exe -O http://155.52.207.165/BBS/3.13/bioc/src/contrib/SpectralTAD_1.8.0.tar.gz && rm -rf SpectralTAD.buildbin-libdir && mkdir SpectralTAD.buildbin-libdir && C:\Users\biocbuild\bbs-3.13-bioc\R\bin\R.exe CMD INSTALL --merge-multiarch --build --library=SpectralTAD.buildbin-libdir SpectralTAD_1.8.0.tar.gz && C:\Users\biocbuild\bbs-3.13-bioc\R\bin\R.exe CMD INSTALL SpectralTAD_1.8.0.zip && rm SpectralTAD_1.8.0.tar.gz SpectralTAD_1.8.0.zip StartedAt: 2021-10-14 08:55:23 -0400 (Thu, 14 Oct 2021) EndedAt: 2021-10-14 08:55:55 -0400 (Thu, 14 Oct 2021) EllapsedTime: 31.3 seconds RetCode: 0 Status: OK