Package: SpidermiR Version: 1.22.1 Command: /home/biocbuild/bbs-3.13-bioc/R/bin/R CMD check --install=check:SpidermiR.install-out.txt --library=/home/biocbuild/bbs-3.13-bioc/R/library --no-vignettes --timings SpidermiR_1.22.1.tar.gz StartedAt: 2021-10-14 11:43:49 -0400 (Thu, 14 Oct 2021) EndedAt: 2021-10-14 11:45:45 -0400 (Thu, 14 Oct 2021) EllapsedTime: 116.4 seconds RetCode: 1 Status: ERROR CheckDir: SpidermiR.Rcheck Warnings: NA