Package: SpidermiR Version: 1.22.1 Command: C:\Users\biocbuild\bbs-3.13-bioc\R\bin\R.exe CMD check --force-multiarch --install=check:SpidermiR.install-out.txt --library=C:\Users\biocbuild\bbs-3.13-bioc\R\library --no-vignettes --timings SpidermiR_1.22.1.tar.gz StartedAt: 2021-10-15 06:04:33 -0400 (Fri, 15 Oct 2021) EndedAt: 2021-10-15 06:07:39 -0400 (Fri, 15 Oct 2021) EllapsedTime: 186.1 seconds RetCode: 1 Status: ERROR CheckDir: SpidermiR.Rcheck Warnings: NA