git_url: https://git.bioconductor.org/packages/SubCellBarCode git_branch: RELEASE_3_13 git_last_commit: b5578c6 git_last_commit_date: 2021-05-19 12:43:49 -0400 (Wed, 19 May 2021) Package: SubCellBarCode Version: 1.8.0 Maintainer: Taner Arslan MaintainerEmail: taner.arslan at ki.se