Package: SynExtend Version: 1.4.1 Command: /home/biocbuild/bbs-3.13-bioc/R/bin/R CMD check --install=check:SynExtend.install-out.txt --library=/home/biocbuild/bbs-3.13-bioc/R/library --no-vignettes --timings SynExtend_1.4.1.tar.gz StartedAt: 2021-10-14 11:49:11 -0400 (Thu, 14 Oct 2021) EndedAt: 2021-10-14 12:03:44 -0400 (Thu, 14 Oct 2021) EllapsedTime: 873.1 seconds RetCode: 0 Status: OK CheckDir: SynExtend.Rcheck Warnings: 0