Package: TCseq Version: 1.16.0 Command: /Library/Frameworks/R.framework/Versions/Current/Resources/bin/R CMD check --install=check:TCseq.install-out.txt --library=/Library/Frameworks/R.framework/Versions/Current/Resources/library --no-vignettes --timings TCseq_1.16.0.tar.gz StartedAt: 2021-10-15 00:37:58 -0400 (Fri, 15 Oct 2021) EndedAt: 2021-10-15 00:42:22 -0400 (Fri, 15 Oct 2021) EllapsedTime: 264.2 seconds RetCode: 0 Status: OK CheckDir: TCseq.Rcheck Warnings: 0