Package: TCseq Version: 1.16.0 Command: /home/biocbuild/bbs-3.13-bioc/R/bin/R CMD check --install=check:TCseq.install-out.txt --library=/home/biocbuild/bbs-3.13-bioc/R/library --no-vignettes --timings TCseq_1.16.0.tar.gz StartedAt: 2021-10-14 11:50:29 -0400 (Thu, 14 Oct 2021) EndedAt: 2021-10-14 11:53:30 -0400 (Thu, 14 Oct 2021) EllapsedTime: 180.6 seconds RetCode: 0 Status: OK CheckDir: TCseq.Rcheck Warnings: 0