Package: TCseq Version: 1.16.0 Command: rm -rf TCseq.buildbin-libdir && mkdir TCseq.buildbin-libdir && C:\Users\biocbuild\bbs-3.13-bioc\R\bin\R.exe CMD INSTALL --merge-multiarch --build --library=TCseq.buildbin-libdir TCseq_1.16.0.tar.gz StartedAt: 2021-10-15 12:09:08 -0400 (Fri, 15 Oct 2021) EndedAt: 2021-10-15 12:10:55 -0400 (Fri, 15 Oct 2021) EllapsedTime: 106.1 seconds RetCode: 0 Status: OK PackageFile: TCseq_1.16.0.zip PackageFileSize: 820.3 KiB