git_url: https://git.bioconductor.org/packages/TEQC git_branch: RELEASE_3_13 git_last_commit: a05076b git_last_commit_date: 2021-05-19 11:46:58 -0400 (Wed, 19 May 2021) Package: TEQC Version: 4.14.0 Maintainer: Sarah Bonnin MaintainerEmail: Sarah.Bonnin at crg.eu