Package: TPP2D Version: 1.8.0 Command: /home/biocbuild/bbs-3.13-bioc/R/bin/R CMD check --install=check:TPP2D.install-out.txt --library=/home/biocbuild/bbs-3.13-bioc/R/library --no-vignettes --timings TPP2D_1.8.0.tar.gz StartedAt: 2021-10-14 11:54:03 -0400 (Thu, 14 Oct 2021) EndedAt: 2021-10-14 11:55:36 -0400 (Thu, 14 Oct 2021) EllapsedTime: 92.7 seconds RetCode: 0 Status: WARNINGS CheckDir: TPP2D.Rcheck Warnings: 1