Package: TPP2D Version: 1.8.0 Command: C:\cygwin\bin\curl.exe -O http://155.52.207.165/BBS/3.13/bioc/src/contrib/TPP2D_1.8.0.tar.gz && rm -rf TPP2D.buildbin-libdir && mkdir TPP2D.buildbin-libdir && C:\Users\biocbuild\bbs-3.13-bioc\R\bin\R.exe CMD INSTALL --merge-multiarch --build --library=TPP2D.buildbin-libdir TPP2D_1.8.0.tar.gz && C:\Users\biocbuild\bbs-3.13-bioc\R\bin\R.exe CMD INSTALL TPP2D_1.8.0.zip && rm TPP2D_1.8.0.tar.gz TPP2D_1.8.0.zip StartedAt: 2021-10-14 10:09:58 -0400 (Thu, 14 Oct 2021) EndedAt: 2021-10-14 10:11:05 -0400 (Thu, 14 Oct 2021) EllapsedTime: 66.6 seconds RetCode: 0 Status: OK